BEGIN:VCALENDAR
VERSION:2.0
PRODID:-//Library Market//iCal Export//EN
BEGIN:VEVENT
SUMMARY:hold for Alex
UID:37118
DTSTAMP:20260419T142500Z
DTSTART:20250915T133000Z
DTEND:20250915T160000Z
LOCATION:Suffolk Cooperative Library System, 627 North Sunrise Service Roa
 d, Bellport, NY 11713, United States
ROOM: Training Room
DESCRIPTION:.
URL:https://portal.suffolklibrarysystem.org/event/hold-alex-37118
END:VEVENT
END:VCALENDAR
