BEGIN:VCALENDAR
VERSION:2.0
PRODID:-//Library Market//iCal Export//EN
BEGIN:VEVENT
SUMMARY:PALS BSBW Library Coordinator Training
UID:37179
DTSTAMP:20260422T002000Z
DTSTART:20260430T140000Z
DTEND:20260430T150000Z
LOCATION:Suffolk Cooperative Library System, 627 North Sunrise Service Roa
 d, Bellport, NY 11713, United States
ROOM: Blue Room
DESCRIPTION:PALS LC Training 
URL:https://portal.suffolklibrarysystem.org/event/pals-bsbw-library-coordi
 nator-training-37179
END:VEVENT
END:VCALENDAR
