BEGIN:VCALENDAR
VERSION:2.0
PRODID:-//Library Market//iCal Export//EN
BEGIN:VEVENT
SUMMARY:SSD Summer Kickoff Event
UID:37181
DTSTAMP:20260422T070400Z
DTSTART:20260623T180000Z
DTEND:20260623T200000Z
LOCATION:Suffolk Cooperative Library System, 627 North Sunrise Service Roa
 d, Bellport, NY 11713, United States
ROOM: Auditorium
DESCRIPTION:Join the Support Staff Division of SCLA for our Summer Kick-Of
 f Event, featuring an engaging program on keeping your brain healthy as yo
 u age. Enjoy the opportunity to connect and network with colleagues across
  the county, share ideas, and kick off the summer season together. Whether
  you are looking for wellness tips or professional connections, this event
  has something for everyone!
URL:https://portal.suffolklibrarysystem.org/event/ssd-summer-kickoff-event
 -37181
END:VEVENT
END:VCALENDAR
